BEGIN:VCALENDAR
VERSION:2.0
PRODID:-//wp-events-plugin.com//7.0.5//EN
BEGIN:VEVENT
UID:3@ailia.info
DTSTART;TZID=America/Toronto:20251203T120000
DTEND;TZID=America/Toronto:20251203T130000
DTSTAMP:20251124T153851Z
URL:https://www.ailia.info/events/comprendre-agir-batir-des-logements-acce
 ssibles-universellement-pour-plus-dinclusion/
SUMMARY:Comprendre\, agir\, bâtir… des logements accessibles universelle
 ment pour plus d’inclusion!
DESCRIPTION:À l’occasion de la Journée internationale des personnes han
 dicapées\, joignez vous à nous pour un échange inspirant et concret sur
  l’importance de l’accessibilité universelle en matière de logement.
  Nous aurons le privilège d'accueillir Camille Asselin\, architecte chez 
 Société Logique.\n\nCe webinaire abordera :\n\n 	Comprendre les enjeux e
 t les besoins des personnes en situation de handicap.\n 	Agir en mettant e
 n place des solutions pratiques et inclusives.\n 	Bâtir des environnement
 s accessibles pour favoriser l’autonomie et la participation sociale.\n\
 nQue vous soyez professionnel du milieu\, décideur\, ou simplement intér
 essé par l’inclusion\, ce rendez-vous est pour vous! Ensemble\, faisons
  progresser l’accessibilité universelle pour des communautés plus équ
 itables.\n\nInscrivez vous dès maintenant en cliquant ici!
ATTACH;FMTTYPE=image/jpeg:https://www.ailia.info/wp-content/uploads/2025/1
 1/3-decembre-AILIA.jpg
END:VEVENT
BEGIN:VTIMEZONE
TZID:America/Toronto
X-LIC-LOCATION:America/Toronto
BEGIN:STANDARD
DTSTART:20251102T010000
TZOFFSETFROM:-0400
TZOFFSETTO:-0500
TZNAME:EST
END:STANDARD
END:VTIMEZONE
END:VCALENDAR