BEGIN:VCALENDAR
VERSION:2.0
PRODID:-//wp-events-plugin.com//7.0.5//EN
BEGIN:VEVENT
UID:2@ailia.info
DTSTART:20251030T200000Z
DTEND:20251030T230000Z
DTSTAMP:20250912T122728Z
URL:https://www.ailia.info/events/journee-portes-ouvertes-30-octobre-2025/
SUMMARY:Journée Portes Ouvertes - 30 Octobre 2025
DESCRIPTION:\n\n\n\n\n\n\n\n\n\n\n\n\n🎉 Invitation spéciale – L'AILIA
  célèbre ses 30 ans! À l’occasion de cet anniversaire\, nous vous con
 vions à une soirée portes ouvertes festive et inspirante!\n\n\n\n\n\n\n\
 n\n\n\n\n\n\n\n\n\n\n\nVenez échanger\, découvrir et célébrer avec nou
 s :\n\n🔹 Panel de discussion à 17h00 sur les enjeux de l’accessibili
 té universelle\n\n🔹 Réseautage\, bouchées et cocktails dans une ambi
 ance conviviale\n\n🔹 Kiosque de réalité virtuelle pour vivre l’acce
 ssibilité autrement\n\nCet événement sera l’occasion parfaite pour so
 uligner ensemble trois décennies de mobilisation pour une société plus 
 accessible!\n\nInscrivez-vous dès maintenant en remplissant le formulaire
  ci-dessous.\n\n\n\n\n\n\n\n\n\n[wpforms id="1872"]
END:VEVENT
END:VCALENDAR