BEGIN:VCALENDAR
VERSION:2.0
PRODID:-//wp-events-plugin.com//7.0.5//EN
BEGIN:VEVENT
UID:4@ailia.info
DTSTART;TZID=America/Toronto:20260312T120000
DTEND;TZID=America/Toronto:20260312T130000
DTSTAMP:20260217T222330Z
URL:https://www.ailia.info/events/webinaire-femmes-et-handicap-briser-les-
 barrieres-batir-linclusion/
SUMMARY:Webinaire Femmes et Handicap: Briser les barrières\, bâtir l'incl
 usion
DESCRIPTION:Dans le cadre de la Journée internationale des droits des femm
 es\, célébrée le 8 mars 2026\, nous vous invitons à notre webinaire in
 titulé « Femmes &amp\; Handicap : briser les barrières\, bâtir l’i
 nclusion »\, qui se tiendra le 12 mars prochain.\n\n\n\nCe webinaire me
 ttra en lumière les réalités vécues par les femmes en situation de han
 dicap. Marie‑Claire Major et Stéphanie Messier\, de l’Office des per
 sonnes handicapées du Québec\, présenteront le rôle de l’Office ains
 i que des analyses et statistiques récentes sur les conditions de vie et 
 la participation sociale des femmes handicapées.\n\nSophie Tétrault-Mart
 el\, du Centre des femmes de Longueuil\, partagera l’expérience de tran
 sformation du Centre pour le rendre accessible\, puis Marie‑Hélène Ta
 nguay conclura avec un témoignage inspirant sur les enjeux d’accessibi
 lité\, de logement et de sécurité pour les femmes vivant avec une défi
 cience motrice.\n\nInscrivez‑vous en grand nombre !\n\n
ATTACH;FMTTYPE=image/jpeg:https://www.ailia.info/wp-content/uploads/2026/0
 2/Webinaire-12-mars-2026-1.jpg
END:VEVENT
BEGIN:VTIMEZONE
TZID:America/Toronto
X-LIC-LOCATION:America/Toronto
BEGIN:DAYLIGHT
DTSTART:20260308T030000
TZOFFSETFROM:-0500
TZOFFSETTO:-0400
TZNAME:EDT
END:DAYLIGHT
END:VTIMEZONE
END:VCALENDAR